BEGIN:VCALENDAR
VERSION:2.0
PRODID:-//Plone.org//NONSGML plone.app.event//EN
X-WR-TIMEZONE:Europe/Madrid
BEGIN:VEVENT
SUMMARY:Presa de possessió d'una treballadora municipal
DTSTART;TZID=Europe/Madrid;VALUE=DATE-TIME:20230720T110000
DTEND;TZID=Europe/Madrid;VALUE=DATE-TIME:20230720T120000
DTSTAMP;VALUE=DATE-TIME:20260423T235120Z
UID:026d8f202a0b7988f13f21a4c0270397
CREATED;VALUE=DATE-TIME:20230720T000000Z
CATEGORIES:Agenda institucional
LOCATION:Despatx d'Alcaldia - Carrer Ample, 11
URL:https://www.canetdemar.cat/document.php?id=24208
END:VEVENT
END:VCALENDAR