BEGIN:VCALENDAR
VERSION:2.0
PRODID:-//Plone.org//NONSGML plone.app.event//EN
X-WR-TIMEZONE:Europe/Madrid
BEGIN:VEVENT
SUMMARY:Assistència a l'Ofici de Sant Pol de Mar
DTSTART;TZID=Europe/Madrid;VALUE=DATE-TIME:20230725T113000
DTEND;TZID=Europe/Madrid;VALUE=DATE-TIME:20230725T123000
DTSTAMP;VALUE=DATE-TIME:20260424T130029Z
UID:f9f273a539d2758934d5046e7fd625f0
CREATED;VALUE=DATE-TIME:20230725T000000Z
CATEGORIES:Agenda institucional
LOCATION:Plaça de la Vila - Plaça de la Vila, 1
ORGANIZER:Ajuntament de Sant Pol de Mar
URL:https://www.canetdemar.cat/document.php?id=24203
END:VEVENT
END:VCALENDAR