BEGIN:VCALENDAR
VERSION:2.0
PRODID:-//Plone.org//NONSGML plone.app.event//EN
X-WR-TIMEZONE:Europe/Madrid
BEGIN:VEVENT
SUMMARY:Cinema a la fresca
DTSTART;TZID=Europe/Madrid;VALUE=DATE-TIME:20060811T220000
DTEND;TZID=Europe/Madrid;VALUE=DATE-TIME:20060811T230000
DTSTAMP;VALUE=DATE-TIME:20260423T153126Z
UID:1358a27266822cd89e4e6f3b26061fff
CREATED;VALUE=DATE-TIME:20060811T000000Z
CATEGORIES:Cinema
LOCATION:pati de l'Escola de Teixits
ORGANIZER:
ACPO

DESCRIPTION:Astèrix i els vikings
URL:https://www.canetdemar.cat/document.php?id=2420
END:VEVENT
END:VCALENDAR