BEGIN:VCALENDAR
VERSION:2.0
PRODID:-//Plone.org//NONSGML plone.app.event//EN
X-WR-TIMEZONE:Europe/Madrid
BEGIN:VEVENT
SUMMARY:Assistència al concert FIL DE GOSPEL
DTSTART;TZID=Europe/Madrid;VALUE=DATE-TIME:20230716T190000
DTEND;TZID=Europe/Madrid;VALUE=DATE-TIME:20230716T200000
DTSTAMP;VALUE=DATE-TIME:20260423T031411Z
UID:524863d904baa2d62a4dfefd930d74b5
CREATED;VALUE=DATE-TIME:20230716T000000Z
CATEGORIES:Agenda institucional
LOCATION:Jardins de Comediants
URL:https://www.canetdemar.cat/document.php?id=24176
END:VEVENT
END:VCALENDAR