BEGIN:VCALENDAR
VERSION:2.0
PRODID:-//Plone.org//NONSGML plone.app.event//EN
X-WR-TIMEZONE:Europe/Madrid
BEGIN:VEVENT
SUMMARY:Exposició Mur al descobert
DTSTART;TZID=Europe/Madrid;VALUE=DATE-TIME:20230907T190000
DTEND;TZID=Europe/Madrid;VALUE=DATE-TIME:20230907T200000
DTSTAMP;VALUE=DATE-TIME:20260421T113252Z
UID:4a1df45b4993069d133c62a25db39774
CREATED;VALUE=DATE-TIME:20230907T000000Z
CATEGORIES:Exposició
LOCATION:Sala Cultural Ramon de Capmany
ORGANIZER:Àrea de Cultura Ajuntament de Canet de Mar
COMMENT:Preu: Gratuit
Durada: del 7 setembre al 17 setembre
DESCRIPTION:Festa Major petita i Diada Nacional
URL:https://www.canetdemar.cat/document.php?id=24170
END:VEVENT
END:VCALENDAR