BEGIN:VCALENDAR
VERSION:2.0
PRODID:-//Plone.org//NONSGML plone.app.event//EN
X-WR-TIMEZONE:Europe/Madrid
BEGIN:VEVENT
SUMMARY:Acte d'hissada de la bandera blava
DTSTART;TZID=Europe/Madrid;VALUE=DATE-TIME:20230707T110000
DTEND;TZID=Europe/Madrid;VALUE=DATE-TIME:20230707T120000
DTSTAMP;VALUE=DATE-TIME:20260425T211055Z
UID:b9c6be1a1d72cf81680f63fa70aa7574
CREATED;VALUE=DATE-TIME:20230707T000000Z
CATEGORIES:Agenda institucional
LOCATION:Platja de Canet - Platja de Canet
URL:https://www.canetdemar.cat/document.php?id=24157
END:VEVENT
END:VCALENDAR