BEGIN:VCALENDAR
VERSION:2.0
PRODID:-//Plone.org//NONSGML plone.app.event//EN
X-WR-TIMEZONE:Europe/Madrid
BEGIN:VEVENT
SUMMARY:Reunió amb el Cap de Servei Territorial
DTSTART;TZID=Europe/Madrid;VALUE=DATE-TIME:20230707T123000
DTEND;TZID=Europe/Madrid;VALUE=DATE-TIME:20230707T133000
DTSTAMP;VALUE=DATE-TIME:20260425T125150Z
UID:fe82306789111cf6af22269526726851
CREATED;VALUE=DATE-TIME:20230707T000000Z
CATEGORIES:Agenda institucional
LOCATION:Sala annexa Alcaldia - Carrer Ample, 11
URL:https://www.canetdemar.cat/document.php?id=24156
END:VEVENT
END:VCALENDAR