BEGIN:VCALENDAR
VERSION:2.0
PRODID:-//Plone.org//NONSGML plone.app.event//EN
X-WR-TIMEZONE:Europe/Madrid
BEGIN:VEVENT
SUMMARY:CANET ROCK | Recepció consellera de Cultura
DTSTART;TZID=Europe/Madrid;VALUE=DATE-TIME:20230701T220000
DTEND;TZID=Europe/Madrid;VALUE=DATE-TIME:20230701T230000
DTSTAMP;VALUE=DATE-TIME:20260423T222705Z
UID:4b407ec5dcde0494745c0ec815760aef
CREATED;VALUE=DATE-TIME:20230701T000000Z
CATEGORIES:Agenda institucional
LOCATION:Pla d'en Sala
URL:https://www.canetdemar.cat/document.php?id=24117
END:VEVENT
END:VCALENDAR