BEGIN:VCALENDAR
VERSION:2.0
PRODID:-//Plone.org//NONSGML plone.app.event//EN
X-WR-TIMEZONE:Europe/Madrid
BEGIN:VEVENT
SUMMARY:Entrevista a l'alcalde i regidora de l'Àrea de Seguretat Ciutadana
DTSTART;TZID=Europe/Madrid;VALUE=DATE-TIME:20230630T103000
DTEND;TZID=Europe/Madrid;VALUE=DATE-TIME:20230630T113000
DTSTAMP;VALUE=DATE-TIME:20260423T234209Z
UID:ad0f0ff0982532fb5a71934c13ba9f69
CREATED;VALUE=DATE-TIME:20230630T000000Z
CATEGORIES:Agenda institucional
LOCATION:Pla d'en Sala - Carrer Via Cannetum, 22
URL:https://www.canetdemar.cat/document.php?id=24110
END:VEVENT
END:VCALENDAR