BEGIN:VCALENDAR
VERSION:2.0
PRODID:-//Plone.org//NONSGML plone.app.event//EN
X-WR-TIMEZONE:Europe/Madrid
BEGIN:VEVENT
SUMMARY:XXIX Concurs de teatre Premi Pedracastell
DTSTART;TZID=Europe/Madrid;VALUE=DATE-TIME:20030323T181500
DTEND;TZID=Europe/Madrid;VALUE=DATE-TIME:20030323T191500
DTSTAMP;VALUE=DATE-TIME:20260426T042109Z
UID:7bb229a041b6fcf414fdd0bfc62aaf64
CREATED;VALUE=DATE-TIME:20030323T000000Z
DESCRIPTION:"El labrador de más aire"
URL:https://www.canetdemar.cat/document.php?id=241
END:VEVENT
END:VCALENDAR