BEGIN:VCALENDAR
VERSION:2.0
PRODID:-//Plone.org//NONSGML plone.app.event//EN
X-WR-TIMEZONE:Europe/Madrid
BEGIN:VEVENT
SUMMARY:Curs de manipulador/a aliments
DTSTART;TZID=Europe/Madrid;VALUE=DATE-TIME:20230615T170000
DTEND;TZID=Europe/Madrid;VALUE=DATE-TIME:20230615T180000
DTSTAMP;VALUE=DATE-TIME:20260421T111134Z
UID:11fa6cda09b1b5bdd13c0fd9fd5d8b8e
CREATED;VALUE=DATE-TIME:20230615T000000Z
LOCATION:La Masoveria
ORGANIZER:Àrea de Joventut - La Masoveria
COMMENT:Preu: Gratuït
Durada: 15 i 16 de juny de 2023 de 17.00 a 19.00 hores
URL:https://www.canetdemar.cat/document.php?id=24083
END:VEVENT
END:VCALENDAR