BEGIN:VCALENDAR
VERSION:2.0
PRODID:-//Plone.org//NONSGML plone.app.event//EN
X-WR-TIMEZONE:Europe/Madrid
BEGIN:VEVENT
SUMMARY:Torneig Infantil - Juvenil d'Escacs
DTSTART;TZID=Europe/Madrid;VALUE=DATE-TIME:20230708T110000
DTEND;TZID=Europe/Madrid;VALUE=DATE-TIME:20230708T120000
DTSTAMP;VALUE=DATE-TIME:20260422T235940Z
UID:1a2cc38578766459037a31d1c3aed81e
CREATED;VALUE=DATE-TIME:20230708T000000Z
LOCATION:A l´Avinguda General Moragues
ORGANIZER:Club d´Escacs Canet
DESCRIPTION:FESTA MAJOR 2023
URL:https://www.canetdemar.cat/document.php?id=24064
END:VEVENT
END:VCALENDAR