BEGIN:VCALENDAR
VERSION:2.0
PRODID:-//Plone.org//NONSGML plone.app.event//EN
X-WR-TIMEZONE:Europe/Madrid
BEGIN:VEVENT
SUMMARY:Escape Room Missió Espaial
DTSTART;TZID=Europe/Madrid;VALUE=DATE-TIME:20230627T170000
DTEND;TZID=Europe/Madrid;VALUE=DATE-TIME:20230627T180000
DTSTAMP;VALUE=DATE-TIME:20260424T115949Z
UID:ae625ffd4505a6918ccb7f094f9f7e9b
CREATED;VALUE=DATE-TIME:20230627T000000Z
LOCATION:inici de l'Escape - recinte Vil·la Flora
ORGANIZER:La Masoveria - Àrea de Joventut
COMMENT:Durada: de 17.00 a 20.00 hores
DESCRIPTION:FESTA MAJOR 2023
URL:https://www.canetdemar.cat/document.php?id=24061
END:VEVENT
END:VCALENDAR