BEGIN:VCALENDAR
VERSION:2.0
PRODID:-//Plone.org//NONSGML plone.app.event//EN
X-WR-TIMEZONE:Europe/Madrid
BEGIN:VEVENT
SUMMARY:Snow Slide (tobogan gegant sense aigua) i Xtrem Race (cursa d'obstacles)
DTSTART;TZID=Europe/Madrid;VALUE=DATE-TIME:20230627T180000
DTEND;TZID=Europe/Madrid;VALUE=DATE-TIME:20230627T190000
DTSTAMP;VALUE=DATE-TIME:20260424T115750Z
UID:1440b488bb65c4aa33cd19ecd8dc5bb3
CREATED;VALUE=DATE-TIME:20230627T000000Z
LOCATION:plaça Universitat
ORGANIZER:Àrea de Festes
DESCRIPTION:FESTA MAJOR 2023
URL:https://www.canetdemar.cat/document.php?id=24060
END:VEVENT
END:VCALENDAR