BEGIN:VCALENDAR
VERSION:2.0
PRODID:-//Plone.org//NONSGML plone.app.event//EN
X-WR-TIMEZONE:Europe/Madrid
BEGIN:VEVENT
SUMMARY:Fira d'atraccions
DTSTART;TZID=Europe/Madrid;VALUE=DATE-TIME:20230623T000000
DTEND;TZID=Europe/Madrid;VALUE=DATE-TIME:20230623T010000
DTSTAMP;VALUE=DATE-TIME:20260421T095311Z
UID:c4b0b1768994946c4065cae80f0c33cf
CREATED;VALUE=DATE-TIME:20230623T000000Z
LOCATION:passeig Marítim
ORGANIZER:Àrea de Festes
COMMENT:Durada: del 23 al 29 de juny de 2023
DESCRIPTION:FESTA MAJOR 2023
URL:https://www.canetdemar.cat/document.php?id=24039
END:VEVENT
END:VCALENDAR