BEGIN:VCALENDAR
VERSION:2.0
PRODID:-//Plone.org//NONSGML plone.app.event//EN
X-WR-TIMEZONE:Europe/Madrid
BEGIN:VEVENT
SUMMARY:Salvem els oceans a càrrec de Sandra Uve
DTSTART;TZID=Europe/Madrid;VALUE=DATE-TIME:20230721T180000
DTEND;TZID=Europe/Madrid;VALUE=DATE-TIME:20230721T190000
DTSTAMP;VALUE=DATE-TIME:20260424T194910Z
UID:f4ab649512fdd6518d54072aca559744
CREATED;VALUE=DATE-TIME:20230721T000000Z
CATEGORIES:Infantils
LOCATION:Biblioteca P. Gual i Pujadas
COMMENT:Preu: Gratuït
DESCRIPTION:Taller d'aquarel.la
URL:https://www.canetdemar.cat/document.php?id=24036
END:VEVENT
END:VCALENDAR