BEGIN:VCALENDAR
VERSION:2.0
PRODID:-//Plone.org//NONSGML plone.app.event//EN
X-WR-TIMEZONE:Europe/Madrid
BEGIN:VEVENT
SUMMARY:Neteja del fons marí
DTSTART;TZID=Europe/Madrid;VALUE=DATE-TIME:20230604T090000
DTEND;TZID=Europe/Madrid;VALUE=DATE-TIME:20230604T100000
DTSTAMP;VALUE=DATE-TIME:20260421T080644Z
UID:60f4cb39e3d050aeb0e6c643a6efa4ba
CREATED;VALUE=DATE-TIME:20230604T000000Z
LOCATION:Zona Neptú
URL:https://www.canetdemar.cat/document.php?id=23977
END:VEVENT
END:VCALENDAR