BEGIN:VCALENDAR
VERSION:2.0
PRODID:-//Plone.org//NONSGML plone.app.event//EN
X-WR-TIMEZONE:Europe/Madrid
BEGIN:VEVENT
SUMMARY:Diumenges de ball
DTSTART;TZID=Europe/Madrid;VALUE=DATE-TIME:20230618T190000
DTEND;TZID=Europe/Madrid;VALUE=DATE-TIME:20230618T200000
DTSTAMP;VALUE=DATE-TIME:20260424T225404Z
UID:3b1d04bb7ca7649f694c926ce8be5a04
CREATED;VALUE=DATE-TIME:20230618T000000Z
LOCATION:Envelat de Vil·la Flora
ORGANIZER:Amcis del ball
URL:https://www.canetdemar.cat/document.php?id=23964
END:VEVENT
END:VCALENDAR