BEGIN:VCALENDAR
VERSION:2.0
PRODID:-//Plone.org//NONSGML plone.app.event//EN
X-WR-TIMEZONE:Europe/Madrid
BEGIN:VEVENT
SUMMARY:Festa del Medi Ambient
DTSTART;TZID=Europe/Madrid;VALUE=DATE-TIME:20230602T163000
DTEND;TZID=Europe/Madrid;VALUE=DATE-TIME:20230602T173000
DTSTAMP;VALUE=DATE-TIME:20260424T000031Z
UID:dc16d8309ec9553eb938edb9e8d1cb90
CREATED;VALUE=DATE-TIME:20230602T000000Z
LOCATION:Escola Misericòrdia
ORGANIZER:Escola Misericòrdia
COMMENT:Durada: de 16.30 a 18.00 hores
URL:https://www.canetdemar.cat/document.php?id=23956
END:VEVENT
END:VCALENDAR