BEGIN:VCALENDAR
VERSION:2.0
PRODID:-//Plone.org//NONSGML plone.app.event//EN
X-WR-TIMEZONE:Europe/Madrid
BEGIN:VEVENT
SUMMARY:Concert Big Band
DTSTART;TZID=Europe/Madrid;VALUE=DATE-TIME:20230521T190000
DTEND;TZID=Europe/Madrid;VALUE=DATE-TIME:20230521T200000
DTSTAMP;VALUE=DATE-TIME:20260423T031629Z
UID:7e33eb517012f175a3d413cfa5ba9e98
CREATED;VALUE=DATE-TIME:20230521T000000Z
LOCATION:Jardins Comediants
ORGANIZER:Associació de Jubilats
DESCRIPTION:Primavera Cultural
URL:https://www.canetdemar.cat/document.php?id=23911
END:VEVENT
END:VCALENDAR