BEGIN:VCALENDAR
VERSION:2.0
PRODID:-//Plone.org//NONSGML plone.app.event//EN
X-WR-TIMEZONE:Europe/Madrid
BEGIN:VEVENT
SUMMARY:Xerrada: Higiene i son
DTSTART;TZID=Europe/Madrid;VALUE=DATE-TIME:20230605T180000
DTEND;TZID=Europe/Madrid;VALUE=DATE-TIME:20230605T190000
DTSTAMP;VALUE=DATE-TIME:20260421T094413Z
UID:0723565aa7b6a625e7b5dc474ff75159
CREATED;VALUE=DATE-TIME:20230605T000000Z
ORGANIZER:CAP - Canet de Mar
URL:https://www.canetdemar.cat/document.php?id=23880
END:VEVENT
END:VCALENDAR