BEGIN:VCALENDAR
VERSION:2.0
PRODID:-//Plone.org//NONSGML plone.app.event//EN
X-WR-TIMEZONE:Europe/Madrid
BEGIN:VEVENT
SUMMARY:Conferència: Lluís Domènech. Arts gràfiques, projectes editorials i enquadernacions artístiques
DTSTART;TZID=Europe/Madrid;VALUE=DATE-TIME:20230421T183000
DTEND;TZID=Europe/Madrid;VALUE=DATE-TIME:20230421T193000
DTSTAMP;VALUE=DATE-TIME:20260424T183158Z
UID:f4dde0244f9f6d0f49e278bbafb9b1d6
CREATED;VALUE=DATE-TIME:20230421T000000Z
CATEGORIES:Conferència
LOCATION:Casa museu Lluís Domènech i Montaner
ORGANIZER:Lab Domènech (Ajuntament de Canet de Mar i Centre d'Estudis Lluís Domènech i Montaner)
COMMENT:Preu: Gratuït
Durada: 1 hora
URL:https://www.canetdemar.cat/document.php?id=23867
END:VEVENT
END:VCALENDAR