BEGIN:VCALENDAR
VERSION:2.0
PRODID:-//Plone.org//NONSGML plone.app.event//EN
X-WR-TIMEZONE:Europe/Madrid
BEGIN:VEVENT
SUMMARY:Els tres óssos amb L'Estaquirot Teatre
DTSTART;TZID=Europe/Madrid;VALUE=DATE-TIME:20230521T120000
DTEND;TZID=Europe/Madrid;VALUE=DATE-TIME:20230521T130000
DTSTAMP;VALUE=DATE-TIME:20260423T203406Z
UID:74852226da3bfb41af5ef6ed47b075f9
CREATED;VALUE=DATE-TIME:20230521T000000Z
CATEGORIES:Infantils
LOCATION:TMC Sala Centru
ORGANIZER:Ajuntament de Canet de Mar / Àrea de Cultura
COMMENT:Preu: Taquilla: 6&euro;. Anticipada 5&euro;
DESCRIPTION:Teatre Familiar / Aparador d'Espectacles
URL:https://www.canetdemar.cat/document.php?id=23852
END:VEVENT
END:VCALENDAR