BEGIN:VCALENDAR
VERSION:2.0
PRODID:-//Plone.org//NONSGML plone.app.event//EN
X-WR-TIMEZONE:Europe/Madrid
BEGIN:VEVENT
SUMMARY:Diumenge de ball
DTSTART;TZID=Europe/Madrid;VALUE=DATE-TIME:20230409T190000
DTEND;TZID=Europe/Madrid;VALUE=DATE-TIME:20230409T200000
DTSTAMP;VALUE=DATE-TIME:20260425T022433Z
UID:a3884c35bd2c62be2df20dbccb01ee4b
CREATED;VALUE=DATE-TIME:20230409T000000Z
LOCATION:Envelat de Vil·la Flora
ORGANIZER:Amics del ball
URL:https://www.canetdemar.cat/document.php?id=23834
END:VEVENT
END:VCALENDAR