BEGIN:VCALENDAR
VERSION:2.0
PRODID:-//Plone.org//NONSGML plone.app.event//EN
X-WR-TIMEZONE:Europe/Madrid
BEGIN:VEVENT
SUMMARY:Festa de Sant Cristòfol
DTSTART;TZID=Europe/Madrid;VALUE=DATE-TIME:20060716T000000
DTEND;TZID=Europe/Madrid;VALUE=DATE-TIME:20060716T010000
DTSTAMP;VALUE=DATE-TIME:20260425T204448Z
UID:31df7c079c3d39f8ccebd06adcea3619
CREATED;VALUE=DATE-TIME:20060716T000000Z
URL:https://www.canetdemar.cat/document.php?id=2376
END:VEVENT
END:VCALENDAR