BEGIN:VCALENDAR
VERSION:2.0
PRODID:-//Plone.org//NONSGML plone.app.event//EN
X-WR-TIMEZONE:Europe/Madrid
BEGIN:VEVENT
SUMMARY:Ball dels diumenges a l'envelat de Vil·la Flora
DTSTART;TZID=Europe/Madrid;VALUE=DATE-TIME:20230226T190000
DTEND;TZID=Europe/Madrid;VALUE=DATE-TIME:20230226T200000
DTSTAMP;VALUE=DATE-TIME:20260423T202839Z
UID:f420b66079806a79c3483245abf37b60
CREATED;VALUE=DATE-TIME:20230226T000000Z
LOCATION:Envelat de Vil·la Flora
ORGANIZER:Amics del Ball de Canet de Mar
URL:https://www.canetdemar.cat/document.php?id=23714
END:VEVENT
END:VCALENDAR