BEGIN:VCALENDAR
VERSION:2.0
PRODID:-//Plone.org//NONSGML plone.app.event//EN
X-WR-TIMEZONE:Europe/Madrid
BEGIN:VEVENT
SUMMARY:Visita guiada: Domènech i Montaner: Modernisme i Vitralls
DTSTART;TZID=Europe/Madrid;VALUE=DATE-TIME:20231125T110000
DTEND;TZID=Europe/Madrid;VALUE=DATE-TIME:20231125T120000
DTSTAMP;VALUE=DATE-TIME:20260423T133136Z
UID:8dffd79d7e01c088203b0436428ece8f
CREATED;VALUE=DATE-TIME:20231125T000000Z
LOCATION:Punt de trobada: Casa museu Lluís Domènech i Montaner
ORGANIZER:Casa museu Lluís Domènech i Montaner
COMMENT:Preu: 10&euro; (jubilats, estudiants i carnet de biblioteca 6&euro;)
Durada: 1h 30'
URL:https://www.canetdemar.cat/document.php?id=23712
END:VEVENT
END:VCALENDAR