BEGIN:VCALENDAR
VERSION:2.0
PRODID:-//Plone.org//NONSGML plone.app.event//EN
X-WR-TIMEZONE:Europe/Madrid
BEGIN:VEVENT
SUMMARY:Ball i animació infantil de Carnaval
DTSTART;TZID=Europe/Madrid;VALUE=DATE-TIME:20230219T120000
DTEND;TZID=Europe/Madrid;VALUE=DATE-TIME:20230219T130000
DTSTAMP;VALUE=DATE-TIME:20260421T131450Z
UID:50f51fe6f7b07042e55540b47ef92df5
CREATED;VALUE=DATE-TIME:20230219T000000Z
LOCATION:plaça Universitat
ORGANIZER:Àrea de Festes
URL:https://www.canetdemar.cat/document.php?id=23693
END:VEVENT
END:VCALENDAR