BEGIN:VCALENDAR
VERSION:2.0
PRODID:-//Plone.org//NONSGML plone.app.event//EN
X-WR-TIMEZONE:Europe/Madrid
BEGIN:VEVENT
SUMMARY:Portes obertes a l'ISCAT Maresme
DTSTART;TZID=Europe/Madrid;VALUE=DATE-TIME:20230304T110000
DTEND;TZID=Europe/Madrid;VALUE=DATE-TIME:20230304T120000
DTSTAMP;VALUE=DATE-TIME:20260423T101415Z
UID:bbeb87f8545d6d7cb17f53d5b3ce0a9b
CREATED;VALUE=DATE-TIME:20230304T000000Z
COMMENT:Durada: De 10.00 a 13.00 h.
DESCRIPTION:Portes obertes centres educatius
URL:https://www.canetdemar.cat/document.php?id=23680
END:VEVENT
END:VCALENDAR