BEGIN:VCALENDAR
VERSION:2.0
PRODID:-//Plone.org//NONSGML plone.app.event//EN
X-WR-TIMEZONE:Europe/Madrid
BEGIN:VEVENT
SUMMARY:Presentació del taller de memòria
DTSTART;TZID=Europe/Madrid;VALUE=DATE-TIME:20230224T180000
DTEND;TZID=Europe/Madrid;VALUE=DATE-TIME:20230224T190000
DTSTAMP;VALUE=DATE-TIME:20260425T222749Z
UID:f82243f974863b222d5e273c750c55cd
CREATED;VALUE=DATE-TIME:20230224T000000Z
CATEGORIES:Conferència
LOCATION:SEU DE SÀLVIA. PLAÇA MANÉN S/N
ORGANIZER:Associació Sàlvia
COMMENT:Preu: Gratuït
DESCRIPTION:Els camins de la meva vida ahir i avui
URL:https://www.canetdemar.cat/document.php?id=23667
END:VEVENT
END:VCALENDAR