BEGIN:VCALENDAR
VERSION:2.0
PRODID:-//Plone.org//NONSGML plone.app.event//EN
X-WR-TIMEZONE:Europe/Madrid
BEGIN:VEVENT
SUMMARY:Ruta Modernista i Casa museu Lluís Domènech i Montaner
DTSTART;TZID=Europe/Madrid;VALUE=DATE-TIME:20231022T110000
DTEND;TZID=Europe/Madrid;VALUE=DATE-TIME:20231022T120000
DTSTAMP;VALUE=DATE-TIME:20260423T101807Z
UID:76940be289f6c1be63d1a6cae5456a23
CREATED;VALUE=DATE-TIME:20231022T000000Z
LOCATION:Casa museu Lluís Domènech i Montaner
ORGANIZER:Casa museu Lluís Domènech i Montaner
COMMENT:Preu: 10&euro; (carnet de biblioteca, jubilats i estudiants 6&euro;). Menors de 12 anys gratuïta.
Durada: 1h 30'
URL:https://www.canetdemar.cat/document.php?id=23653
END:VEVENT
END:VCALENDAR