BEGIN:VCALENDAR
VERSION:2.0
PRODID:-//Plone.org//NONSGML plone.app.event//EN
X-WR-TIMEZONE:Europe/Madrid
BEGIN:VEVENT
SUMMARY:Ruta íntima Lluís Domènech i Montaner per Canet de Mar
DTSTART;TZID=Europe/Madrid;VALUE=DATE-TIME:20231104T110000
DTEND;TZID=Europe/Madrid;VALUE=DATE-TIME:20231104T120000
DTSTAMP;VALUE=DATE-TIME:20260423T050244Z
UID:60426368a087f354c244da76d301f9fa
CREATED;VALUE=DATE-TIME:20231104T000000Z
LOCATION:Punt de trobada: Casa museu Lluís Domènech i Montaner
ORGANIZER:Casa museu Lluís Domènech i Montaner
COMMENT:Preu: 10&euro; (carnet de biblioteca, jubilats i estudiants 6&euro;). Menors de 12 anys gratuïta.
Durada: 1h 30'
URL:https://www.canetdemar.cat/document.php?id=23601
END:VEVENT
END:VCALENDAR