BEGIN:VCALENDAR
VERSION:2.0
PRODID:-//Plone.org//NONSGML plone.app.event//EN
X-WR-TIMEZONE:Europe/Madrid
BEGIN:VEVENT
SUMMARY:Cinema infantil: "Dragon Hill"
DTSTART;TZID=Europe/Madrid;VALUE=DATE-TIME:20030323T113000
DTEND;TZID=Europe/Madrid;VALUE=DATE-TIME:20030323T123000
DTSTAMP;VALUE=DATE-TIME:20260425T191519Z
UID:35fceb09838a2e6e697de2e2afe50d9d
CREATED;VALUE=DATE-TIME:20030323T000000Z
URL:https://www.canetdemar.cat/document.php?id=236
END:VEVENT
END:VCALENDAR