BEGIN:VCALENDAR
VERSION:2.0
PRODID:-//Plone.org//NONSGML plone.app.event//EN
X-WR-TIMEZONE:Europe/Madrid
BEGIN:VEVENT
SUMMARY:Ruta guiada Visita guiada al Cementiri
DTSTART;TZID=Europe/Madrid;VALUE=DATE-TIME:20230401T180000
DTEND;TZID=Europe/Madrid;VALUE=DATE-TIME:20230401T190000
DTSTAMP;VALUE=DATE-TIME:20260423T190749Z
UID:174e564fa22b111bdf7d6a04de4251a1
CREATED;VALUE=DATE-TIME:20230401T000000Z
LOCATION:Cementiri de Canet de Mar - Carrer Sant Marc
ORGANIZER:Àrea de Promoció Econòmica i Turisme - Ajuntament de Canet de Mar
COMMENT:Preu: 10&euro; (carnet de biblioteca, jubilats i estudiants 6&euro;). Menors de 12 anys gratuïta.
Durada: 1h 30'
URL:https://www.canetdemar.cat/document.php?id=23597
END:VEVENT
END:VCALENDAR