BEGIN:VCALENDAR
VERSION:2.0
PRODID:-//Plone.org//NONSGML plone.app.event//EN
X-WR-TIMEZONE:Europe/Madrid
BEGIN:VEVENT
SUMMARY:Inauguració oficial de l'Any Domènech i Montaner
DTSTART;TZID=Europe/Madrid;VALUE=DATE-TIME:20230127T130000
DTEND;TZID=Europe/Madrid;VALUE=DATE-TIME:20230127T140000
DTSTAMP;VALUE=DATE-TIME:20260420T234243Z
UID:3c9a7fc607d60a6e67b1e093b1753869
CREATED;VALUE=DATE-TIME:20230127T000000Z
CATEGORIES:Conferència,Agenda institucional
LOCATION:Institut Pere Mata de Reus
URL:https://www.canetdemar.cat/document.php?id=23587
END:VEVENT
END:VCALENDAR