BEGIN:VCALENDAR
VERSION:2.0
PRODID:-//Plone.org//NONSGML plone.app.event//EN
X-WR-TIMEZONE:Europe/Madrid
BEGIN:VEVENT
SUMMARY:La Casa Domènech 1919
DTSTART;TZID=Europe/Madrid;VALUE=DATE-TIME:20230318T110000
DTEND;TZID=Europe/Madrid;VALUE=DATE-TIME:20230318T120000
DTSTAMP;VALUE=DATE-TIME:20260422T144757Z
UID:c5c4a66f1999df72a0acdb20465947e8
CREATED;VALUE=DATE-TIME:20230318T000000Z
LOCATION:Punt de trobada: Casa museu Lluís Domènech i Montaner
ORGANIZER:Casa museu Lluís Domènech i Montaner
COMMENT:Preu: 10&euro; (carnet de biblioteca, jubilats i estudiants 6&euro;). Menors de 12 anys gratuïta.
Durada: 1h 30'
DESCRIPTION:Ruta guiada
URL:https://www.canetdemar.cat/document.php?id=23557
END:VEVENT
END:VCALENDAR