BEGIN:VCALENDAR
VERSION:2.0
PRODID:-//Plone.org//NONSGML plone.app.event//EN
X-WR-TIMEZONE:Europe/Madrid
BEGIN:VEVENT
SUMMARY:Conte en anglès: Storytelling amb Kids & Us
DTSTART;TZID=Europe/Madrid;VALUE=DATE-TIME:20230224T173000
DTEND;TZID=Europe/Madrid;VALUE=DATE-TIME:20230224T183000
DTSTAMP;VALUE=DATE-TIME:20260422T112713Z
UID:76741b0b8f2475c9e10b3eacefed1c4e
CREATED;VALUE=DATE-TIME:20230224T000000Z
CATEGORIES:Infantils
LOCATION:Biblioteca P. Gual i Pujadas
ORGANIZER:Biblioteca P. Gual i Pujadas/ Kids&Us
COMMENT:Preu: Gratuït
URL:https://www.canetdemar.cat/document.php?id=23551
END:VEVENT
END:VCALENDAR