BEGIN:VCALENDAR
VERSION:2.0
PRODID:-//Plone.org//NONSGML plone.app.event//EN
X-WR-TIMEZONE:Europe/Madrid
BEGIN:VEVENT
SUMMARY:Presentació del llibre: Quan les dones havien de pintar flors. El modernisme a Catalunya de Consol Oltra
DTSTART;TZID=Europe/Madrid;VALUE=DATE-TIME:20230303T180000
DTEND;TZID=Europe/Madrid;VALUE=DATE-TIME:20230303T190000
DTSTAMP;VALUE=DATE-TIME:20260426T015011Z
UID:7858ef9933ad4add4266c90e401ad9f3
CREATED;VALUE=DATE-TIME:20230303T000000Z
LOCATION:Biblioteca P. Gual i Pujadas
ORGANIZER:Associació Sàlvia / Biblioteca
COMMENT:Preu: Gratuït
URL:https://www.canetdemar.cat/document.php?id=23549
END:VEVENT
END:VCALENDAR