BEGIN:VCALENDAR
VERSION:2.0
PRODID:-//Plone.org//NONSGML plone.app.event//EN
X-WR-TIMEZONE:Europe/Madrid
BEGIN:VEVENT
SUMMARY:Lapònia
DTSTART;TZID=Europe/Madrid;VALUE=DATE-TIME:20230219T180000
DTEND;TZID=Europe/Madrid;VALUE=DATE-TIME:20230219T190000
DTSTAMP;VALUE=DATE-TIME:20260421T131603Z
UID:0aa7931cf6cfa7a8cc80707843497458
CREATED;VALUE=DATE-TIME:20230219T000000Z
CATEGORIES:Teatre
LOCATION:TMC-Sala Centru
ORGANIZER:ASSOCIACIÓ ARTÍSTICA TEATRAL EL CENTRU DE CANET DE MAR
DESCRIPTION:49è Concurs de Teatre amateur Premi Pedracastell 20232
URL:https://www.canetdemar.cat/document.php?id=23548
END:VEVENT
END:VCALENDAR