BEGIN:VCALENDAR
VERSION:2.0
PRODID:-//Plone.org//NONSGML plone.app.event//EN
X-WR-TIMEZONE:Europe/Madrid
BEGIN:VEVENT
SUMMARY:Fira d'artesania
DTSTART;TZID=Europe/Madrid;VALUE=DATE-TIME:20230902T000000
DTEND;TZID=Europe/Madrid;VALUE=DATE-TIME:20230902T010000
DTSTAMP;VALUE=DATE-TIME:20260423T190420Z
UID:82e0069c2f9c7ec4b600e4b6a0485217
CREATED;VALUE=DATE-TIME:20230902T000000Z
CATEGORIES:Mostra
LOCATION:Riera Sant Domènec i carrer Ample
ORGANIZER:Mares Malabaristes amb la col.laboració de l'Àrea de Promoció Econòmica
COMMENT:Durada: De 10 a 21h
DESCRIPTION:Mostra d'artesania i producte de proximitat
URL:https://www.canetdemar.cat/document.php?id=23507
END:VEVENT
END:VCALENDAR