BEGIN:VCALENDAR
VERSION:2.0
PRODID:-//Plone.org//NONSGML plone.app.event//EN
X-WR-TIMEZONE:Europe/Madrid
BEGIN:VEVENT
SUMMARY:Ball de Cap d'any
DTSTART;TZID=Europe/Madrid;VALUE=DATE-TIME:20230101T010000
DTEND;TZID=Europe/Madrid;VALUE=DATE-TIME:20230101T020000
DTSTAMP;VALUE=DATE-TIME:20260423T105417Z
UID:2e8b8c7438b0ae9f26e0c839aa32f654
CREATED;VALUE=DATE-TIME:20230101T000000Z
LOCATION:Envelat de Vil·la Flora
ORGANIZER:Àrea de Festes
URL:https://www.canetdemar.cat/document.php?id=23425
END:VEVENT
END:VCALENDAR