BEGIN:VCALENDAR
VERSION:2.0
PRODID:-//Plone.org//NONSGML plone.app.event//EN
X-WR-TIMEZONE:Europe/Madrid
BEGIN:VEVENT
SUMMARY:Audicions de solistes i combos
DTSTART;TZID=Europe/Madrid;VALUE=DATE-TIME:20221215T183000
DTEND;TZID=Europe/Madrid;VALUE=DATE-TIME:20221215T193000
DTSTAMP;VALUE=DATE-TIME:20260422T163134Z
UID:9c20db1fd63a9345e5de3bb740b6c431
CREATED;VALUE=DATE-TIME:20221215T000000Z
LOCATION:Auditori Jaume Dotras i Serrabella - Escola de Música
ORGANIZER:Escola de Música
URL:https://www.canetdemar.cat/document.php?id=23403
END:VEVENT
END:VCALENDAR