BEGIN:VCALENDAR
VERSION:2.0
PRODID:-//Plone.org//NONSGML plone.app.event//EN
X-WR-TIMEZONE:Europe/Madrid
BEGIN:VEVENT
SUMMARY:Portes obertes a l'IES
DTSTART;TZID=Europe/Madrid;VALUE=DATE-TIME:20030316T120000
DTEND;TZID=Europe/Madrid;VALUE=DATE-TIME:20030316T130000
DTSTAMP;VALUE=DATE-TIME:20260425T203730Z
UID:51fc8ef5c70773d6f3368237e97e6ae3
CREATED;VALUE=DATE-TIME:20030316T000000Z
URL:https://www.canetdemar.cat/document.php?id=234
END:VEVENT
END:VCALENDAR