BEGIN:VCALENDAR
VERSION:2.0
PRODID:-//Plone.org//NONSGML plone.app.event//EN
X-WR-TIMEZONE:Europe/Madrid
BEGIN:VEVENT
SUMMARY:Taller: Gamificació en el negoci
DTSTART;TZID=Europe/Madrid;VALUE=DATE-TIME:20221121T000000
DTEND;TZID=Europe/Madrid;VALUE=DATE-TIME:20221121T010000
DTSTAMP;VALUE=DATE-TIME:20260423T190619Z
UID:17a6ed0c0cb4676a753aa5a1c14496fb
CREATED;VALUE=DATE-TIME:20221121T000000Z
LOCATION:Modalitat online
ORGANIZER:Àrea de Promoció Econòmica i Diputació de Barcelona
COMMENT:Durada: 21, 23, 28 i 30 de novembre de 2022
URL:https://www.canetdemar.cat/document.php?id=23321
END:VEVENT
END:VCALENDAR