BEGIN:VCALENDAR
VERSION:2.0
PRODID:-//Plone.org//NONSGML plone.app.event//EN
X-WR-TIMEZONE:Europe/Madrid
BEGIN:VEVENT
SUMMARY:Donació de sang
DTSTART;TZID=Europe/Madrid;VALUE=DATE-TIME:20221119T100000
DTEND;TZID=Europe/Madrid;VALUE=DATE-TIME:20221119T110000
DTSTAMP;VALUE=DATE-TIME:20260422T164113Z
UID:adf396f288cd5545a98844786a53173d
CREATED;VALUE=DATE-TIME:20221119T000000Z
LOCATION:Espai Caixa Gent Gran - Carrer Vall 24
ORGANIZER:Banc de sang i de teixits
COMMENT:Durada: de 10.00 a 14.00 hores i de 17.00 a 21.00 hores
URL:https://www.canetdemar.cat/document.php?id=23317
END:VEVENT
END:VCALENDAR