BEGIN:VCALENDAR
VERSION:2.0
PRODID:-//Plone.org//NONSGML plone.app.event//EN
X-WR-TIMEZONE:Europe/Madrid
BEGIN:VEVENT
SUMMARY:Club de Lectura: El camí dels esbarzers d'Alba Dalmau
DTSTART;TZID=Europe/Madrid;VALUE=DATE-TIME:20221216T163000
DTEND;TZID=Europe/Madrid;VALUE=DATE-TIME:20221216T173000
DTSTAMP;VALUE=DATE-TIME:20260424T040651Z
UID:971bafcfe611fb1a44a42ffce47cc160
CREATED;VALUE=DATE-TIME:20221216T000000Z
CATEGORIES:Literatura
LOCATION:Biblioteca P. Gual i Pujadas
ORGANIZER:Biblioteca P. Gual i Pujadas
COMMENT:Preu: Gratuït
URL:https://www.canetdemar.cat/document.php?id=23301
END:VEVENT
END:VCALENDAR