BEGIN:VCALENDAR
VERSION:2.0
PRODID:-//Plone.org//NONSGML plone.app.event//EN
X-WR-TIMEZONE:Europe/Madrid
BEGIN:VEVENT
SUMMARY:Canet obert al món: ARMÈNIA
DTSTART;TZID=Europe/Madrid;VALUE=DATE-TIME:20030315T110000
DTEND;TZID=Europe/Madrid;VALUE=DATE-TIME:20030315T120000
DTSTAMP;VALUE=DATE-TIME:20260425T203800Z
UID:7639c33b29966e03bab9a81fb865e490
CREATED;VALUE=DATE-TIME:20030315T000000Z
URL:https://www.canetdemar.cat/document.php?id=233
END:VEVENT
END:VCALENDAR