BEGIN:VCALENDAR
VERSION:2.0
PRODID:-//Plone.org//NONSGML plone.app.event//EN
X-WR-TIMEZONE:Europe/Madrid
BEGIN:VEVENT
SUMMARY:Cants i Poemes de Nadal
DTSTART;TZID=Europe/Madrid;VALUE=DATE-TIME:20221202T180000
DTEND;TZID=Europe/Madrid;VALUE=DATE-TIME:20221202T190000
DTSTAMP;VALUE=DATE-TIME:20260424T125638Z
UID:5435ae03042c68c923a865920daf5e78
CREATED;VALUE=DATE-TIME:20221202T000000Z
CATEGORIES:Música
LOCATION:Biblioteca P. Gual i Pujadas
ORGANIZER:Biblioteca P. Gual i Pujadas
COMMENT:Preu: Gratuït
DESCRIPTION:Cor Infantil de l'Escola de Música de Canet de Mar
URL:https://www.canetdemar.cat/document.php?id=23299
END:VEVENT
END:VCALENDAR