BEGIN:VCALENDAR
VERSION:2.0
PRODID:-//Plone.org//NONSGML plone.app.event//EN
X-WR-TIMEZONE:Europe/Madrid
BEGIN:VEVENT
SUMMARY:Festa Remember solidària per l'IRIS
DTSTART;TZID=Europe/Madrid;VALUE=DATE-TIME:20221022T220000
DTEND;TZID=Europe/Madrid;VALUE=DATE-TIME:20221022T230000
DTSTAMP;VALUE=DATE-TIME:20260424T221320Z
UID:c305279e7aa83ea384d2357f1e630d68
CREATED;VALUE=DATE-TIME:20221022T000000Z
CATEGORIES:Música
LOCATION:Envelat de Vil·la Flora
ORGANIZER:Associació the switch
COMMENT:Durada: De 22.00  a 01.00 hores
URL:https://www.canetdemar.cat/document.php?id=23278
END:VEVENT
END:VCALENDAR