BEGIN:VCALENDAR
VERSION:2.0
PRODID:-//Plone.org//NONSGML plone.app.event//EN
X-WR-TIMEZONE:Europe/Madrid
BEGIN:VEVENT
SUMMARY:Punt informatiu recollida selectiva
DTSTART;TZID=Europe/Madrid;VALUE=DATE-TIME:20060624T170000
DTEND;TZID=Europe/Madrid;VALUE=DATE-TIME:20060624T180000
DTSTAMP;VALUE=DATE-TIME:20260423T034356Z
UID:a1a7f4cb90bd828eaec47871dea9e343
CREATED;VALUE=DATE-TIME:20060624T000000Z
URL:https://www.canetdemar.cat/document.php?id=2327
END:VEVENT
END:VCALENDAR